BEGIN:VCALENDAR
VERSION:2.0
PRODID:-//Hidden Pasture Unicorn Farm - ECPv6.13.2.1//NONSGML v1.0//EN
CALSCALE:GREGORIAN
METHOD:PUBLISH
X-ORIGINAL-URL:https://hiddenpasture.com
X-WR-CALDESC:Events for Hidden Pasture Unicorn Farm
REFRESH-INTERVAL;VALUE=DURATION:PT1H
X-Robots-Tag:noindex
X-PUBLISHED-TTL:PT1H
BEGIN:VTIMEZONE
TZID:America/New_York
BEGIN:DAYLIGHT
TZOFFSETFROM:-0500
TZOFFSETTO:-0400
TZNAME:EDT
DTSTART:20260308T070000
END:DAYLIGHT
BEGIN:STANDARD
TZOFFSETFROM:-0400
TZOFFSETTO:-0500
TZNAME:EST
DTSTART:20261101T060000
END:STANDARD
END:VTIMEZONE
BEGIN:VEVENT
DTSTART;TZID=America/New_York:20260314T110000
DTEND;TZID=America/New_York:20260315T160000
DTSTAMP:20260423T130458
CREATED:20260312T185339Z
LAST-MODIFIED:20260312T185632Z
UID:11758-1773486000-1773590400@hiddenpasture.com
SUMMARY:Open Every Weekend! Saturday & Sunday 11-4pm
DESCRIPTION:You don’t need to book a party to visit the farm! 🐐🦄 \nCome out any weekend and enjoy our Petting Farm\, meet all the friendly animals\, and even take a Pony or Unicorn Ride! \nWe’re open every single weekend from 11 AM – 4 PM\, so grab the kids and come spend some time on the farm. \nNo party reservation needed — and you can get your tickets right at the gate when you arrive!
URL:https://hiddenpasture.com/event/open-every-weekend-saturday-sunday-11-4pm/
LOCATION:Hidden Pasture Unicorn Farm\, 108 Hidden Pasture Trail\, Fountain Inn\, SC\, 29644\, United States
ATTACH;FMTTYPE=image/webp:https://hiddenpasture.com/wp-content/uploads/2025/04/8.25.22georgerain.webp
ORGANIZER;CN="Hidden Pasture Unicorn Farm":MAILTO:ponyparties@hiddenpasture.com
END:VEVENT
BEGIN:VEVENT
DTSTART;TZID=America/New_York:20260321T110000
DTEND;TZID=America/New_York:20260322T160000
DTSTAMP:20260423T130458
CREATED:20260313T000245Z
LAST-MODIFIED:20260313T000245Z
UID:11760-1774090800-1774195200@hiddenpasture.com
SUMMARY:Open Every Weekend! Saturday & Sunday 11-4
DESCRIPTION:You don’t need to book a party to visit the farm! 🐐🦄 \nCome out any weekend and enjoy our Petting Farm\, meet all the friendly animals\, and even take a Pony or Unicorn Ride! \nWe’re open every single weekend from 11 AM – 4 PM\, so grab the kids and come spend some time on the farm. You’re even welcome to bring a picnic\, but please don’t feed the animals your food\, and no pets allowed! \nNo party reservation needed — and you can get your tickets right at the gate when you arrive!
URL:https://hiddenpasture.com/event/open-every-weekend-saturday-sunday-11-4/
LOCATION:Hidden Pasture Unicorn Farm\, 108 Hidden Pasture Trail\, Fountain Inn\, SC\, 29644\, United States
CATEGORIES:Open Every Weekend!
ATTACH;FMTTYPE=image/webp:https://hiddenpasture.com/wp-content/uploads/2025/04/11.27.22george8.webp
ORGANIZER;CN="Hidden Pasture Unicorn Farm":MAILTO:ponyparties@hiddenpasture.com
END:VEVENT
BEGIN:VEVENT
DTSTART;TZID=America/New_York:20260328T110000
DTEND;TZID=America/New_York:20260329T160000
DTSTAMP:20260423T130458
CREATED:20260312T184749Z
LAST-MODIFIED:20260312T185502Z
UID:11754-1774695600-1774800000@hiddenpasture.com
SUMMARY:Easter Egg Hunt Hourly and Meet the Easter Bunny
DESCRIPTION:🐣🌷 Spring Baby Animal Festival & Easter Fun at Hidden Pasture Unicorn Farm! 🌷🐰\nThe cutest spring event is back — with baby animals\, unicorns\, and endless Easter fun for the whole family! \n📅 Dates: March 28–29 & April 4–5 (We’re open Easter Sunday!)\n⏰ Time: 11 AM – 4 PM (Hourly Egg Hunts — last one at 3:30 PM)\n📍 Location: 245 Little Virginia Rd\, Fountain Inn\, SC 29644 \n🧺 What’s Included: \n\n\nHourly Easter Egg Hunts (separate areas for little ones) \n\n\nMeet & take photos with the Easter Bunny! \n\n\nPetting Zoo & Baby Animals \n\n\nBounce Houses \n\n\nUnicorn Encounters! 🦄 \n\n\nAnd more farm fun for everyone! \n\n\n🐎 Pony & Unicorn Rides just $10 extra \n🎟 Admission: \n\n\nBabies 2 & under: FREE \n\n\nKids (3–17): $15 \n\n\nAdults: $12\n(All entrants need a ticket) \n\n\n💳 Cash & cards accepted. Bring your Easter basket for egg hunts filled with candy & trinkets!\n👉 Buy tickets online now or at the gate on event days! \nDon’t miss out on the most magical spring event in the Upstate — come cuddle baby animals\, hunt eggs\, and make Easter memories that sparkle! ✨
URL:https://hiddenpasture.com/event/easter-egg-hunt-hourly-and-meet-the-easter-bunny/
LOCATION:SC
CATEGORIES:Easter Egg Hunt,Events
ATTACH;FMTTYPE=image/jpeg:https://hiddenpasture.com/wp-content/uploads/2026/03/2026-Easter-Egg-Hunt.jpg
END:VEVENT
BEGIN:VEVENT
DTSTART;TZID=America/New_York:20260404T110000
DTEND;TZID=America/New_York:20260405T160000
DTSTAMP:20260423T130458
CREATED:20260313T000634Z
LAST-MODIFIED:20260313T000634Z
UID:11762-1775300400-1775404800@hiddenpasture.com
SUMMARY:Easter Egg Hunt Hourly and Meet the Easter Bunny
DESCRIPTION: Spring Baby Animal Festival & Easter Fun at Hidden Pasture Unicorn Farm! \nThe cutest spring event is back — with baby animals\, unicorns\, and endless Easter fun for the whole family! \n Dates: March 28–29 & April 4–5 (We’re open Easter Sunday!)\n Time: 11 AM – 4 PM (Hourly Egg Hunts — last one at 3:30 PM)\n Location: 245 Little Virginia Rd\, Fountain Inn\, SC 29644 \n What’s Included: \n\n\nHourly Easter Egg Hunts (separate areas for little ones) \n\n\nMeet & take photos with the Easter Bunny! \n\n\nPetting Zoo & Baby Animals \n\n\nBounce Houses \n\n\nUnicorn Encounters!  \n\n\nAnd more farm fun for everyone! \n\n\n Pony & Unicorn Rides just $10 extra \n Admission: \n\n\nBabies 2 & under: FREE \n\n\nKids (3–17): $15 \n\n\nAdults: $12\n(All entrants need a ticket) \n\n\n Cash & cards accepted. Bring your Easter basket for egg hunts filled with candy & trinkets!\n Buy tickets online now or at the gate on event days! \nDon’t miss out on the most magical spring event in the Upstate — come cuddle baby animals\, hunt eggs\, and make Easter memories that sparkle! 
URL:https://hiddenpasture.com/event/easter-egg-hunt-hourly-and-meet-the-easter-bunny-2/
LOCATION:Hidden Pasture Unicorn Farm\, 108 Hidden Pasture Trail\, Fountain Inn\, SC\, 29644\, United States
CATEGORIES:Easter Egg Hunt
ATTACH;FMTTYPE=image/webp:https://hiddenpasture.com/wp-content/uploads/2026/03/2026-Easter-Egg-Hunt.webp
ORGANIZER;CN="Hidden Pasture Unicorn Farm":MAILTO:ponyparties@hiddenpasture.com
END:VEVENT
END:VCALENDAR