BEGIN:VCALENDAR
VERSION:2.0
PRODID:-//Hidden Pasture Unicorn Farm - ECPv6.13.2.1//NONSGML v1.0//EN
CALSCALE:GREGORIAN
METHOD:PUBLISH
X-ORIGINAL-URL:https://hiddenpasture.com
X-WR-CALDESC:Events for Hidden Pasture Unicorn Farm
REFRESH-INTERVAL;VALUE=DURATION:PT1H
X-Robots-Tag:noindex
X-PUBLISHED-TTL:PT1H
BEGIN:VTIMEZONE
TZID:America/New_York
BEGIN:DAYLIGHT
TZOFFSETFROM:-0500
TZOFFSETTO:-0400
TZNAME:EDT
DTSTART:20250309T070000
END:DAYLIGHT
BEGIN:STANDARD
TZOFFSETFROM:-0400
TZOFFSETTO:-0500
TZNAME:EST
DTSTART:20251102T060000
END:STANDARD
END:VTIMEZONE
BEGIN:VEVENT
DTSTART;TZID=America/New_York:20250503T110000
DTEND;TZID=America/New_York:20250928T160000
DTSTAMP:20260423T224535
CREATED:20250425T190449Z
LAST-MODIFIED:20250425T190449Z
UID:5110-1746270000-1759075200@hiddenpasture.com
SUMMARY:Great Pony Wash - Epic Unicorn Grooming Sessions!
DESCRIPTION:From May through the End of September\, you can Book an Epic Grooming Session with a Mini-Unicorn. Wash + Dry + Style! Paint Hooves\, Braid Manes Perfect for Kids and Adults Ages 7+ (not recommended for kids under 7). Then after Your Unicorn looks perfect\, take them on a walk and take pictures of the Adorable day! These are Actual Real horses and do horsey-things like POOP. We like for kids to know they are REAL Animals\, Unicorns That is!! This is an add-on package – and Admission not included. For up to 4 kids at a time\, you even get 1 Complimentary “Keepa Scrubbin” t-Shirt\, additional shirts can be purchased for $20 each. The Ultimate Experience for a Horsey-Loving Child or Adult! Sessions are $85 and do not include admission.
URL:https://hiddenpasture.com/event/great-pony-wash-epic-unicorn-grooming-sessions/
LOCATION:Hidden Pasture Unicorn Farm\, 108 Hidden Pasture Trail\, Fountain Inn\, SC\, 29644\, United States
END:VEVENT
END:VCALENDAR