BEGIN:VCALENDAR
VERSION:2.0
PRODID:-//Hidden Pasture Unicorn Farm - ECPv6.13.2.1//NONSGML v1.0//EN
CALSCALE:GREGORIAN
METHOD:PUBLISH
X-WR-CALNAME:Hidden Pasture Unicorn Farm
X-ORIGINAL-URL:https://hiddenpasture.com
X-WR-CALDESC:Events for Hidden Pasture Unicorn Farm
REFRESH-INTERVAL;VALUE=DURATION:PT1H
X-Robots-Tag:noindex
X-PUBLISHED-TTL:PT1H
BEGIN:VTIMEZONE
TZID:America/New_York
BEGIN:DAYLIGHT
TZOFFSETFROM:-0500
TZOFFSETTO:-0400
TZNAME:EDT
DTSTART:20250309T070000
END:DAYLIGHT
BEGIN:STANDARD
TZOFFSETFROM:-0400
TZOFFSETTO:-0500
TZNAME:EST
DTSTART:20251102T060000
END:STANDARD
END:VTIMEZONE
BEGIN:VEVENT
DTSTART;TZID=America/New_York:20250927T110000
DTEND;TZID=America/New_York:20251027T160000
DTSTAMP:20260423T195054
CREATED:20230814T142709Z
LAST-MODIFIED:20250426T054934Z
UID:1803-1758970800-1761580800@hiddenpasture.com
SUMMARY:Fun Fall Fest at The Unicorn Farm®
DESCRIPTION: Fun Fall Festival at The Unicorn Farm®! \nEvery Friday\, Saturday\, Sunday\nSeptember 27-Oct 26\, 2025 11am-4pm \nJoin us for a fantastic celebration of fall with locally grown pumpkins and cornstalks! Enjoy a day filled with friendly Real-Life Unicorns®\, free range petting farm\, horses\, bounce house fun\, pony rides\, games\, and tasty pumpkin treats\, get your pumpkins here! Enjoy fun and creative Fall and Halloween Décor and Activities that will make the whole family Smile!!\n\n Event Details:When: Every Friday\, Saturday\, and Sunday from September 27-October 26\, 2025\nWhere: The Unicorn Farm®\, 108 Unicorn Farm Trail\, Fountain Inn\, SC\nTickets: $12 each (Ages 3 and up; babies 2 and under are free)\n Activities Include:Pony & Unicorn rides ($7 each)Animal feed ($3)Bounce house and petting farm (included with entry) Tasty Snacks served Saturdays and Sundays!\n\nGet your tickets online in advance or at the gate (cash and cards accepted). Don’t miss out on the music\, games\, and family fun!Come make unforgettable memories this fall at The Unicorn Farm®! 
URL:https://hiddenpasture.com/event/fun-fall-fest-at-the-unicorn-farm/
LOCATION:Hidden Pasture Unicorn Farm\, 108 Hidden Pasture Trail\, Fountain Inn\, SC\, 29644\, United States
CATEGORIES:Events
ATTACH;FMTTYPE=image/png:https://hiddenpasture.com/wp-content/uploads/2023/08/2025-Fun-Fall-Festival-FB-01-01-scaled.png
ORGANIZER;CN="Hidden Pasture Unicorn Farm":MAILTO:ponyparties@hiddenpasture.com
END:VEVENT
BEGIN:VEVENT
DTSTART;TZID=America/New_York:20251031T110000
DTEND;TZID=America/New_York:20251102T160000
DTSTAMP:20260423T195054
CREATED:20230814T143510Z
LAST-MODIFIED:20250426T060016Z
UID:1807-1761908400-1762099200@hiddenpasture.com
SUMMARY:Candicorn Fair Trick or Treat
DESCRIPTION:🎃🦄🍬 Candicorn Fair & Trick or Treat 🍬🦄🎃\nFRIDAY\, OCTOBER 31\, November 1-2\, 2025 | 11 AM – 4 PM \n✨ Let’s see your most magical little unicorns and fiercest little dragons! 🦄🐉 Dress up and join the fun at the Unicorn Farm with Peaches and George the Unicorns-plus all our friendly farm animals! 🐐🐓 \n👻 Trick or Treat at the entrance: Every kid (ages 3-17) gets a pre-filled bag of candy and prizes! 🍭🍫\n👻 Play on the playground\, shop for crafts and gifts\, and enjoy delicious treats! 🎁🍪 \n🎟️ Once inside\, grab tickets for: \n\n\nPony & Unicorn Rides ($7) 🐴🦄 \n\n\nAdorable photos with unicorns 📸✨ \n\n\nMore magical activities! \n\n\n🎈 Complimentary bounce houses for non-stop play! 🤸‍♂️\n🍕 Food Truck with pizza\, hot dogs\, and more tasty bites! 🌭🍕 \n🐮 Meet and greet our farmyard animals up close!\n🎶 Spooky-fun kid music\, self-guided games\, and scavenger hunts! 🕵️‍♂️ \n🎟️ Tickets: \n\n\nKids (3-17): $14 \n\n\nAdults: $12 \n\n\nBabies (2 & under): Free! \n\n\n👑 Costume Contest: Show off your best unicorn or dragon look for a chance to win magical prizes! 🏆 \nDon’t miss this enchanting fall celebration-bring your littles for a day of sweet treats\, farmyard fun\, and unforgettable memories! 🌈✨ \n#CandicornFair #TrunkOrTreat #UnicornFarm #HalloweenFun #FamilyEvent #UnicornMagic #FarmAnimals #BounceHouse #CostumeContest #FallFestival #CandyCorn #PonyRides #GeorgeAuroris #SpookyFun #KidsEvent
URL:https://hiddenpasture.com/event/candicorn-fair-trunk-or-treat/
LOCATION:Hidden Pasture Unicorn Farm\, 108 Hidden Pasture Trail\, Fountain Inn\, SC\, 29644\, United States
CATEGORIES:Events
ATTACH;FMTTYPE=image/png:https://hiddenpasture.com/wp-content/uploads/2023/08/2025-Candicorn-Fair-01-01-scaled.png
ORGANIZER;CN="Hidden Pasture Unicorn Farm":MAILTO:ponyparties@hiddenpasture.com
END:VEVENT
END:VCALENDAR